BEGIN:VCALENDAR
VERSION:2.0
PRODID:-//MotorsportReg//iCal 2.0//EN
CALSCALE:GREGORIAN
METHOD:PUBLISH
X-WR-TIMEZONE:US/Pacific
BEGIN:VEVENT
DTSTART:20211105T000000
DTEND:20211106T000000
DTSTAMP:20260423T042631Z
SUMMARY:SCDA- Lime Rock Park- Ian Prout Memorial 11/5/21
DESCRIPTION:Details: https://www.scdareg.com/events/scda-lime-rock-park-ian-prout-memorial-11-5-21-sports-car-driving-association-599089
CATEGORIES:HPDE
TRANSP:TRANSPARENT
UID:6B0A04F4-ECC5-40D2-57585A9A599089FE-at-MotorsportReg.com
LOCATION:Lime Rock Park\, Lakeville\, CT US
GEO:41.93232;-73.38042
URL;VALUE=URI:https://www.scdareg.com/events/scda-lime-rock-park-ian-prout-memorial-11-5-21-sports-car-driving-association-599089
END:VEVENT
END:VCALENDAR